#------------------------------------------------------------------------------
#$Date: 2026-03-05 13:19:58 +0100 (Thu 05 de Mar de 2026) $
#$Revision: 304869 $
#$URL: svn://www.crystallography.net/cod/cif/1/57/61/1576141.cif $
#------------------------------------------------------------------------------
#
# This file is available in the Crystallography Open Database (COD),
# http://www.crystallography.net/
#
# All data on this site have been placed in the public domain by the
# contributors.
#
data_1576141
loop_
_publ_author_name
'Balvanz, Adam'
'Pournara, Anastasia'
'Reynolds, Robert P.'
'Meza, Patricia E.'
'Malliakas, Christos D.'
'Fletcher, Jared D.'
'Seshadri, Ram'
'Dravid, Vinayak P.'
'Kanatzidis, Mercouri G.'
_publ_section_title
;
 Tuning optical properties and local lone-pair off-centering in "hollow"
 FA₁₋ₓ {en} ₓ Pb
 <sub>η-y</sub> Sn y Br₃
 perovskites.
;
_journal_issue                   1
_journal_name_full               'Chemical science'
_journal_page_first              526
_journal_page_last               543
_journal_paper_doi               10.1039/d5sc01841b
_journal_volume                  17
_journal_year                    2026
_chemical_formula_moiety         'Br3 Pb0.5 Sn0.5, 4(C0.25 N0.5)'
_chemical_formula_sum            'C Br3 N2 Pb0.5 Sn0.5'
_chemical_formula_weight         442.70
_space_group_crystal_system      cubic
_space_group_IT_number           221
_space_group_name_Hall           '-P 4 2 3'
_space_group_name_H-M_alt        'P m -3 m'
_atom_sites_solution_primary     dual
_audit_creation_date             2024-10-29
_audit_creation_method
;
Olex2 1.5
(compiled 2023.08.24 svn.re1ec1418 for OlexSys, GUI svn.r6817)
;
_audit_update_record
;
2025-02-21 deposited with the CCDC.	2025-10-21 downloaded from the CCDC.
;
_cell_angle_alpha                90
_cell_angle_beta                 90
_cell_angle_gamma                90
_cell_formula_units_Z            1
_cell_length_a                   5.9617(18)
_cell_length_b                   5.9617(18)
_cell_length_c                   5.9617(18)
_cell_measurement_reflns_used    3787
_cell_measurement_temperature    295
_cell_measurement_theta_max      23.84
_cell_measurement_theta_min      2.69
_cell_volume                     211.89(11)
_computing_molecular_graphics    'Olex2 1.5 (Dolomanov et al., 2009)'
_computing_publication_material  'Olex2 1.5 (Dolomanov et al., 2009)'
_computing_structure_refinement  'SHELXL 2018/1 (Sheldrick, 2015)'
_computing_structure_solution    'SHELXT 2014/5 (Sheldrick, 2014)'
_diffrn_ambient_temperature      295
_diffrn_measured_fraction_theta_full 1.000
_diffrn_measured_fraction_theta_max 1.000
_diffrn_measurement_device_type  'STOE STADIVARI'
_diffrn_radiation_type           AgK\a
_diffrn_radiation_wavelength     0.56083
_diffrn_reflns_av_R_equivalents  0.0166
_diffrn_reflns_av_unetI/netI     0.0086
_diffrn_reflns_Laue_measured_fraction_full 1.000
_diffrn_reflns_Laue_measured_fraction_max 1.000
_diffrn_reflns_limit_h_max       7
_diffrn_reflns_limit_h_min       -8
_diffrn_reflns_limit_k_max       8
_diffrn_reflns_limit_k_min       -7
_diffrn_reflns_limit_l_max       7
_diffrn_reflns_limit_l_min       -8
_diffrn_reflns_number            820
_diffrn_reflns_point_group_measured_fraction_full 1.000
_diffrn_reflns_point_group_measured_fraction_max 1.000
_diffrn_reflns_theta_full        19.664
_diffrn_reflns_theta_max         24.879
_diffrn_reflns_theta_min         2.696
_diffrn_source                   'Axo Ag'
_exptl_absorpt_coefficient_mu    13.687
_exptl_absorpt_correction_T_max  0.1972
_exptl_absorpt_correction_T_min  0.1557
_exptl_absorpt_correction_type   empirical
_exptl_absorpt_process_details
;
STOE LANA, absorption correction by scaling of reflection intensities.
J. Koziskova, F. Hahn, J. Richter, J. Kozisek, "Comparison of different
absorption corrections on the model structure of tetrakis(μ₂-acetato)-
diaqua-di-copper(II)", Acta Chimica Slovaca, vol. 9, no. 2, 2016, pp. 136 - 140.
;
_exptl_crystal_colour            yellow
_exptl_crystal_colour_primary    yellow
_exptl_crystal_density_diffrn    3.469
_exptl_crystal_description       irregular
_exptl_crystal_F_000             191
_exptl_crystal_size_max          0.204
_exptl_crystal_size_mid          0.198
_exptl_crystal_size_min          0.17
_refine_diff_density_max         0.922
_refine_diff_density_min         -0.926
_refine_diff_density_rms         0.249
_refine_ls_extinction_coef       0.056(15)
_refine_ls_extinction_expression Fc^*^=kFc[1+0.001xFc²λ³/sin(2θ)]^-1/4^
_refine_ls_extinction_method     'SHELXL-2018/1 (Sheldrick 2018)'
_refine_ls_goodness_of_fit_ref   1.219
_refine_ls_hydrogen_treatment    undef
_refine_ls_matrix_type           full
_refine_ls_number_parameters     9
_refine_ls_number_reflns         105
_refine_ls_number_restraints     1
_refine_ls_restrained_S_all      1.221
_refine_ls_R_factor_all          0.0303
_refine_ls_R_factor_gt           0.0303
_refine_ls_shift/su_max          0.000
_refine_ls_shift/su_mean         0.000
_refine_ls_structure_factor_coef Fsqd
_refine_ls_weighting_details
'w=1/[σ²(Fo²)+(0.0581P)²] where P=(Fo²+2Fc²)/3'
_refine_ls_weighting_scheme      calc
_refine_ls_wR_factor_gt          0.0829
_refine_ls_wR_factor_ref         0.0829
_reflns_Friedel_coverage         0.000
_reflns_number_gt                105
_reflns_number_total             105
_reflns_threshold_expression     'I > 2σ(I)'
_cod_data_source_file            d5sc01841b2.cif
_cod_data_source_block           full_CCDC2
_cod_depositor_comments
'Adding full bibliography for 1576135--1576153.cif.'
_cod_original_cell_volume        211.89(19)
_cod_original_formula_sum        'C Br3 N2 Pb0.50 Sn0.50'
_cod_database_code               1576141
_shelx_shelxl_version_number     2018/1
_shelx_space_group_comment
;
The symmetry employed for this shelxl refinement is uniquely defined
by the following loop, which should always be used as a source of
symmetry information in preference to the above space-group names.
They are only intended as comments.
;
_shelx_estimated_absorpt_t_max   0.204
_shelx_estimated_absorpt_t_min   0.167
_olex2_refinement_description
;
1. Shared sites
{Sn, Pb}
2. Restrained distances
 N_$1-C
 1.45 with sigma of 0.02
3. Uiso/Uaniso restraints and constraints
Uanis(Sn) = Uanis(Pb)
4. Others
 Fixed Sof: Sn(0.010417) Pb(0.010417) N(0.041667)
;
_shelx_res_file
;
TITL full_a.res in Pm-3m
    full.res
    created by SHELXL-2018/1 at 13:02:41 on 29-Oct-2024
REM Old TITL full_a.res in Pm-3m
REM SHELXT solution in Pm-3m
REM R1 0.165, Rweak 0.073, Alpha 0.031, Orientation as input
REM Formula found by SHELXT: Sn Br3
CELL 0.56083 5.9617 5.9617 5.9617 90 90 90
ZERR 1 0.0018 0.0018 0.0018 0 0 0
LATT 1
SYMM -X,-Y,+Z
SYMM -X,+Y,-Z
SYMM +X,-Y,-Z
SYMM +Z,+X,+Y
SYMM +Z,-X,-Y
SYMM -Z,-X,+Y
SYMM -Z,+X,-Y
SYMM +Y,+Z,+X
SYMM -Y,+Z,-X
SYMM +Y,-Z,-X
SYMM -Y,-Z,+X
SYMM +Y,+X,-Z
SYMM -Y,-X,-Z
SYMM +Y,-X,+Z
SYMM -Y,+X,+Z
SYMM +X,+Z,-Y
SYMM -X,+Z,+Y
SYMM -X,-Z,-Y
SYMM +X,-Z,+Y
SYMM +Z,+Y,-X
SYMM +Z,-Y,+X
SYMM -Z,+Y,+X
SYMM -Z,-Y,-X
SFAC Br C N Pb Sn
DISP Br 0.1872 1.6557 5339.1
DISP C 0.0013 0.0009 7.4
DISP N 0.003 0.002 11.7
DISP Pb -1.0526 6.9588 22729.8
DISP Sn -1.129 0.9349 3177.2
UNIT 3 1 2 0.5 0.5
EQIV $1 -Z,-X,+Y
EADP Sn Pb
DFIX 1.45 N_$1 C
EXYZ Sn Pb

L.S. 60
PLAN  2
SIZE 0.204 0.198 0.17
TEMP 21.85
CONF
list 4
MORE -1
fmap 2
acta
OMIT -2 50
REM <olex2.extras>
REM <HklSrc "%.\\Full.hkl">
REM </olex2.extras>

WGHT    0.058100
EXTI    0.055866
FVAR       0.84188
PART 1
SN    5    0.500000    0.500000    0.500000    10.01042    0.04570    0.04570 =
         0.04570    0.00000    0.00000    0.00000
PART 0
BR    1    0.000000    0.500000    0.500000    10.06250    0.06112    0.11383 =
         0.11383    0.00000    0.00000    0.00000
PART 2
PB    4    0.500000    0.500000    0.500000    10.01042    0.04570    0.04570 =
         0.04570    0.00000    0.00000    0.00000

PART 0
C     2    0.000000    0.000000    0.000000    10.02083    0.15895    0.15895 =
         0.15895    0.00000    0.00000    0.00000
N     3    0.239416    0.000000    0.000000    10.04167    0.23852    0.19035 =
         0.19035    0.00000    0.00000    0.00000
HKLF 4




REM  full_a.res in Pm-3m
REM R1 =  0.0303 for     105 Fo > 4sig(Fo)  and  0.0303 for all     105 data
REM      9 parameters refined using      1 restraints

END

WGHT      0.0581      0.0000

REM Highest difference peak  0.922,  deepest hole -0.926,  1-sigma level  0.249
Q1    1   0.0936  0.0936  0.0000  10.25000  0.05    0.92
Q2    1   0.1210  0.0000  0.0000  10.12500  0.05    0.91
;
_shelx_res_checksum              69512
_olex2_submission_special_instructions 'No special instructions were received'
loop_
_space_group_symop_operation_xyz
'x, y, z'
'-x, -y, z'
'-x, y, -z'
'x, -y, -z'
'z, x, y'
'z, -x, -y'
'-z, -x, y'
'-z, x, -y'
'y, z, x'
'-y, z, -x'
'y, -z, -x'
'-y, -z, x'
'y, x, -z'
'-y, -x, -z'
'y, -x, z'
'-y, x, z'
'x, z, -y'
'-x, z, y'
'-x, -z, -y'
'x, -z, y'
'z, y, -x'
'z, -y, x'
'-z, y, x'
'-z, -y, -x'
'-x, -y, -z'
'x, y, -z'
'x, -y, z'
'-x, y, z'
'-z, -x, -y'
'-z, x, y'
'z, x, -y'
'z, -x, y'
'-y, -z, -x'
'y, -z, x'
'-y, z, x'
'y, z, -x'
'-y, -x, z'
'y, x, z'
'-y, x, -z'
'y, -x, -z'
'-x, -z, y'
'x, -z, -y'
'x, z, y'
'-x, z, -y'
'-z, -y, x'
'-z, y, -x'
'z, -y, -x'
'z, y, x'
loop_
_atom_site_label
_atom_site_type_symbol
_atom_site_fract_x
_atom_site_fract_y
_atom_site_fract_z
_atom_site_U_iso_or_equiv
_atom_site_adp_type
_atom_site_occupancy
_atom_site_site_symmetry_order
_atom_site_calc_flag
_atom_site_refinement_flags_posn
_atom_site_refinement_flags_adp
_atom_site_refinement_flags_occupancy
_atom_site_disorder_assembly
_atom_site_disorder_group
Sn Sn 0.500000 0.500000 0.500000 0.0457(5) Uani 0.5002 48 d S T P . 1
Br Br 0.000000 0.500000 0.500000 0.0963(7) Uani 1 16 d S T P . .
Pb Pb 0.500000 0.500000 0.500000 0.0457(5) Uani 0.5002 48 d S T P . 2
C C 0.000000 0.000000 0.000000 0.16(4) Uani 1 48 d DS T P . .
N N 0.239(3) 0.000000 0.000000 0.21(7) Uani 0.3334 8 d S T P . .
loop_
_atom_site_aniso_label
_atom_site_aniso_U_11
_atom_site_aniso_U_22
_atom_site_aniso_U_33
_atom_site_aniso_U_23
_atom_site_aniso_U_13
_atom_site_aniso_U_12
Sn 0.0457(5) 0.0457(5) 0.0457(5) 0.000 0.000 0.000
Br 0.0611(11) 0.1138(12) 0.1138(12) 0.000 0.000 0.000
Pb 0.0457(5) 0.0457(5) 0.0457(5) 0.000 0.000 0.000
C 0.16(4) 0.16(4) 0.16(4) 0.000 0.000 0.000
N 0.24(19) 0.19(8) 0.19(8) 0.000 0.000 0.000
loop_
_atom_type_symbol
_atom_type_description
_atom_type_scat_dispersion_real
_atom_type_scat_dispersion_imag
_atom_type_scat_source
Br Br 0.1872 1.6557 'International Tables Vol C Tables 4.2.6.8 and 6.1.1.4'
C C 0.0013 0.0009 'International Tables Vol C Tables 4.2.6.8 and 6.1.1.4'
N N 0.0030 0.0020 'International Tables Vol C Tables 4.2.6.8 and 6.1.1.4'
Pb Pb -1.0526 6.9588 'International Tables Vol C Tables 4.2.6.8 and 6.1.1.4'
Sn Sn -1.1290 0.9349 'International Tables Vol C Tables 4.2.6.8 and 6.1.1.4'
loop_
_geom_angle_atom_site_label_1
_geom_angle_atom_site_label_2
_geom_angle_atom_site_label_3
_geom_angle
_geom_angle_site_symmetry_1
_geom_angle_site_symmetry_3
_geom_angle_publ_flag
Br Sn Br 90.0 9_556 . ?
Br Sn Br 90.0 1_655 5_565 ?
Br Sn Br 90.0 1_655 9 ?
Br Sn Br 90.0 9_556 1_655 ?
Br Sn Br 180.0 9_556 9 ?
Br Sn Br 180.0 . 1_655 ?
Br Sn Br 90.0 . 5_565 ?
Br Sn Br 90.0 9_556 5 ?
Br Sn Br 180.0 5 5_565 ?
Br Sn Br 90.0 . 5 ?
Br Sn Br 90.0 . 9 ?
Br Sn Br 90.0 1_655 5 ?
Br Sn Br 90.0 5 9 ?
Br Sn Br 90.0 9_556 5_565 ?
Br Sn Br 90.0 5_565 9 ?
Sn Br Sn 180.0 1_455 . ?
Br Pb Br 90.0 1_655 5_565 ?
Br Pb Br 90.0 1_655 9 ?
Br Pb Br 90.0 9_556 . ?
Br Pb Br 180.0 9_556 9 ?
Br Pb Br 90.0 9_556 1_655 ?
Br Pb Br 90.0 5_565 9 ?
Br Pb Br 180.0 . 1_655 ?
Br Pb Br 180.0 5 5_565 ?
Br Pb Br 90.0 9_556 5 ?
Br Pb Br 90.0 . 9 ?
Br Pb Br 90.0 . 5 ?
Br Pb Br 90.0 5 9 ?
Br Pb Br 90.0 1_655 5 ?
Br Pb Br 90.0 . 5_565 ?
Br Pb Br 90.0 9_556 5_565 ?
N C N 180.0 33 9 ?
N C N 90.0 5 . ?
N C N 180.0 5 7 ?
N C N 90.0 33 5 ?
N C N 90.0 33 7 ?
N C N 90.0 9 5 ?
N C N 90.0 . 7 ?
N C N 90.0 33 25 ?
N C N 180.0 25 . ?
N C N 90.0 9 25 ?
N C N 90.0 9 7 ?
N C N 90.0 5 25 ?
N C N 90.0 25 7 ?
N C N 90.0 33 . ?
N C N 90.0 9 . ?
loop_
_geom_bond_atom_site_label_1
_geom_bond_atom_site_label_2
_geom_bond_distance
_geom_bond_site_symmetry_2
_geom_bond_publ_flag
Sn Br 2.9808(9) 9_556 ?
Sn Br 2.9808(9) 5_565 ?
Sn Br 2.9808(9) 5 ?
Sn Br 2.9808(9) . ?
Sn Br 2.9808(9) 9 ?
Sn Br 2.9808(9) 1_655 ?
Br Pb 2.9808(9) . ?
C N 1.43(2) 33 ?
C N 1.43(2) . ?
C N 1.43(2) 25 ?
C N 1.43(2) 9 ?
C N 1.43(2) 7 ?
C N 1.43(2) 5 ?
