#------------------------------------------------------------------------------
#$Date: 2015-01-27 20:58:39 +0100 (Tue 27 de Jan de 2015) $
#$Revision: 130149 $
#$URL: svn://www.crystallography.net/cod/cif/2/00/28/2002847.cif $
#------------------------------------------------------------------------------
#
# This file is available in the Crystallography Open Database (COD),
# http://www.crystallography.net/
#
# All data on this site have been placed in the public domain by the
# contributors.
#
data_2002847
loop_
_publ_author_name
'Mader, K'
'Mueller-Buschbaum, Hk'
_publ_section_title
;
Synthese und Kristallstruktur eines neuen Oxoindates der
Zusammensetzung Ba8 In6 O17
;
_journal_name_full               'Journal of the Less-Common Metals'
_journal_page_first              71
_journal_page_last               76
_journal_paper_doi               10.1016/0022-5088(90)90407-B
_journal_volume                  157
_journal_year                    1990
_chemical_formula_structural     'Ba8 In6 O17'
_chemical_formula_sum            'Ba8 In6 O17'
_chemical_name_systematic        'Barium Indium oxide (8/6/17)'
_space_group_IT_number           139
_symmetry_cell_setting           tetragonal
_symmetry_Int_Tables_number      139
_symmetry_space_group_name_Hall  '-I 4 2'
_symmetry_space_group_name_H-M   'I 4/m m m'
_cell_angle_alpha                90
_cell_angle_beta                 90
_cell_angle_gamma                90
_cell_formula_units_Z            1
_cell_length_a                   4.1725(2)
_cell_length_b                   4.1725(2)
_cell_length_c                   30.487(2)
_cell_volume                     530.8
_exptl_crystal_density_meas      6.4
_refine_ls_R_factor_all          0.083
_cod_database_code               2002847
loop_
_symmetry_equiv_pos_as_xyz
x,y,z
-x,-y,z
-x,y,z
x,-y,z
-y,x,z
y,-x,z
y,x,z
-y,-x,z
-x,-y,-z
x,y,-z
x,-y,-z
-x,y,-z
y,-x,-z
-y,x,-z
-y,-x,-z
y,x,-z
1/2+x,1/2+y,1/2+z
1/2-x,1/2-y,1/2+z
1/2-x,1/2+y,1/2+z
1/2+x,1/2-y,1/2+z
1/2-y,1/2+x,1/2+z
1/2+y,1/2-x,1/2+z
1/2+y,1/2+x,1/2+z
1/2-y,1/2-x,1/2+z
1/2-x,1/2-y,1/2-z
1/2+x,1/2+y,1/2-z
1/2+x,1/2-y,1/2-z
1/2-x,1/2+y,1/2-z
1/2+y,1/2-x,1/2-z
1/2-y,1/2+x,1/2-z
1/2-y,1/2-x,1/2-z
1/2+y,1/2+x,1/2-z
loop_
_atom_site_label
_atom_site_type_symbol
_atom_site_symmetry_multiplicity
_atom_site_Wyckoff_symbol
_atom_site_fract_x
_atom_site_fract_y
_atom_site_fract_z
_atom_site_occupancy
_atom_site_attached_hydrogens
_atom_site_calc_flag
Ba1 Ba2+ 4 e 0. 0. 0.4241(7) 1. 0 d
Ba2 Ba2+ 4 e 0. 0. 0.2990(6) 1. 0 d
In1 In3+ 2 a 0. 0. 0. 1. 0 d
In2 In3+ 4 e 0. 0. 0.1465(8) 1. 0 d
O1 O2- 4 e 0. 0. 0.216(5) 1. 0 d
O2 O2- 4 e 0. 0. 0.079(5) 1. 0 d
O3 O2- 4 c 0. 0.5 0. 0.75 0 d
O4 O2- 8 g 0. 0.5 0.140(3) 0.75 0 d
loop_
_atom_type_symbol
_atom_type_oxidation_number
Ba2+ 2.000
In3+ 3.000
O2- -2.000
