#------------------------------------------------------------------------------
#$Date: 2024-04-18 17:56:43 +0200 (Thu 18 de Apr de 2024) $
#$Revision: 291269 $
#$URL: svn://www.crystallography.net/cod/cif/9/00/18/9001846.cif $
#------------------------------------------------------------------------------
#
# This file is available in the Crystallography Open Database (COD),
# http://www.crystallography.net/. The original data for this entry
# were provided the American Mineralogist Crystal Structure Database,
# http://rruff.geo.arizona.edu/AMS/amcsd.php
#
# The file may be used within the scientific community so long as
# proper attribution is given to the journal article from which the
# data were obtained.
#
data_9001846
loop_
_publ_author_name
'Finch, R. J.'
'Ewing, R. C.'
_publ_section_title
;
 Clarkeite: New chemical and structural data
;
_journal_name_full               'American Mineralogist'
_journal_page_first              607
_journal_page_last               619
_journal_volume                  82
_journal_year                    1997
_chemical_formula_sum            'Na O4 U'
_chemical_name_mineral           Clarkeite
_space_group_IT_number           166
_symmetry_space_group_name_Hall  '-R 3 2"'
_symmetry_space_group_name_H-M   'R -3 m :H'
_cell_angle_alpha                90
_cell_angle_beta                 90
_cell_angle_gamma                120
_cell_length_a                   3.954
_cell_length_b                   3.954
_cell_length_c                   17.660
_cell_formula_units_Z            3
_cell_volume                     239.108
_database_code_amcsd             0001902
_exptl_crystal_density_diffrn    6.771
_cod_original_sg_symbol_H-M      'R -3 m'
_cod_original_formula_sum        'U Na O4'
_cod_database_code               9001846
loop_
_space_group_symop_operation_xyz
x,y,z
2/3+x,1/3+y,1/3+z
1/3+x,2/3+y,2/3+z
x,x-y,z
2/3+x,1/3+x-y,1/3+z
1/3+x,2/3+x-y,2/3+z
y,x,-z
2/3+y,1/3+x,1/3-z
1/3+y,2/3+x,2/3-z
-x+y,y,z
2/3-x+y,1/3+y,1/3+z
1/3-x+y,2/3+y,2/3+z
-x,-x+y,-z
2/3-x,1/3-x+y,1/3-z
1/3-x,2/3-x+y,2/3-z
-y,-x,z
2/3-y,1/3-x,1/3+z
1/3-y,2/3-x,2/3+z
x-y,-y,-z
2/3+x-y,1/3-y,1/3-z
1/3+x-y,2/3-y,2/3-z
y,-x+y,-z
2/3+y,1/3-x+y,1/3-z
1/3+y,2/3-x+y,2/3-z
-x+y,-x,z
2/3-x+y,1/3-x,1/3+z
1/3-x+y,2/3-x,2/3+z
-x,-y,-z
2/3-x,1/3-y,1/3-z
1/3-x,2/3-y,2/3-z
-y,x-y,z
2/3-y,1/3+x-y,1/3+z
1/3-y,2/3+x-y,2/3+z
x-y,x,-z
2/3+x-y,1/3+x,1/3-z
1/3+x-y,2/3+x,2/3-z
loop_
_atom_site_label
_atom_site_fract_x
_atom_site_fract_y
_atom_site_fract_z
_atom_site_U_iso_or_equiv
U 0.00000 0.00000 0.00000 0.00367
Na 0.00000 0.00000 0.50000 0.00684
O1 0.00000 0.00000 0.10690 0.00532
O2 0.00000 0.00000 0.34880 0.00532
loop_
_cod_related_entry_id
_cod_related_entry_database
_cod_related_entry_code
1 AMCSD 0001902
